BEGIN:VCALENDAR
VERSION:2.0
PRODID:-//PregNan - ECPv6.15.20//NONSGML v1.0//EN
CALSCALE:GREGORIAN
METHOD:PUBLISH
X-ORIGINAL-URL:https://www.pregnancr.com
X-WR-CALDESC:Eventos para PregNan
REFRESH-INTERVAL;VALUE=DURATION:PT1H
X-Robots-Tag:noindex
X-PUBLISHED-TTL:PT1H
BEGIN:VTIMEZONE
TZID:America/Costa_Rica
BEGIN:STANDARD
TZOFFSETFROM:-0600
TZOFFSETTO:-0600
TZNAME:CST
DTSTART:20210101T000000
END:STANDARD
END:VTIMEZONE
BEGIN:VEVENT
DTSTART;TZID=America/Costa_Rica:20260322T090000
DTEND;TZID=America/Costa_Rica:20260322T160000
DTSTAMP:20260424T083738
CREATED:20251224T194856Z
LAST-MODIFIED:20251224T194856Z
UID:12282-1774170000-1774195200@www.pregnancr.com
SUMMARY:Curso Lamaze Grupal Marzo
DESCRIPTION:
URL:https://www.pregnancr.com/evento/curso-lamaze-grupal-marzo/
END:VEVENT
BEGIN:VEVENT
DTSTART;TZID=America/Costa_Rica:20260222T090000
DTEND;TZID=America/Costa_Rica:20260222T160000
DTSTAMP:20260424T083738
CREATED:20251224T194743Z
LAST-MODIFIED:20251224T194743Z
UID:12280-1771750800-1771776000@www.pregnancr.com
SUMMARY:Curso Lamaze Grupal Febrero
DESCRIPTION:
URL:https://www.pregnancr.com/evento/curso-lamaze-grupal-febrero/
END:VEVENT
BEGIN:VEVENT
DTSTART;TZID=America/Costa_Rica:20260125T090000
DTEND;TZID=America/Costa_Rica:20260125T160000
DTSTAMP:20260424T083738
CREATED:20251224T194019Z
LAST-MODIFIED:20251224T194019Z
UID:12278-1769331600-1769356800@www.pregnancr.com
SUMMARY:Curso Grupal Lamaze Enero
DESCRIPTION:
URL:https://www.pregnancr.com/evento/curso-grupal-lamaze-enero/
END:VEVENT
BEGIN:VEVENT
DTSTART;TZID=America/Costa_Rica:20251123T090000
DTEND;TZID=America/Costa_Rica:20251123T160000
DTSTAMP:20260424T083738
CREATED:20250716T184045Z
LAST-MODIFIED:20250720T023310Z
UID:12273-1763888400-1763913600@www.pregnancr.com
SUMMARY:Curso Grupal Lamaze
DESCRIPTION:
URL:https://www.pregnancr.com/evento/curso-grupal-lamaze-8/
END:VEVENT
BEGIN:VEVENT
DTSTART;TZID=America/Costa_Rica:20251026T090000
DTEND;TZID=America/Costa_Rica:20251026T160000
DTSTAMP:20260424T083738
CREATED:20250716T183954Z
LAST-MODIFIED:20250716T183954Z
UID:12271-1761469200-1761494400@www.pregnancr.com
SUMMARY:Curso Grupal Lamaze
DESCRIPTION:
URL:https://www.pregnancr.com/evento/curso-grupal-lamaze-7/
END:VEVENT
BEGIN:VEVENT
DTSTART;TZID=America/Costa_Rica:20250928T090000
DTEND;TZID=America/Costa_Rica:20250928T160000
DTSTAMP:20260424T083738
CREATED:20250716T183858Z
LAST-MODIFIED:20250720T022804Z
UID:12269-1759050000-1759075200@www.pregnancr.com
SUMMARY:Curso Grupal Lamaze
DESCRIPTION:
URL:https://www.pregnancr.com/evento/curso-grupal-lamaze-6/
END:VEVENT
BEGIN:VEVENT
DTSTART;TZID=America/Costa_Rica:20250810T090000
DTEND;TZID=America/Costa_Rica:20250810T160000
DTSTAMP:20260424T083738
CREATED:20250530T180948Z
LAST-MODIFIED:20250530T180948Z
UID:12267-1754816400-1754841600@www.pregnancr.com
SUMMARY:Curso Grupal Lamaze
DESCRIPTION:
URL:https://www.pregnancr.com/evento/curso-grupal-lamaze-5/
END:VEVENT
BEGIN:VEVENT
DTSTART;TZID=America/Costa_Rica:20250629T090000
DTEND;TZID=America/Costa_Rica:20250629T160000
DTSTAMP:20260424T083738
CREATED:20250414T015318Z
LAST-MODIFIED:20250414T015318Z
UID:12257-1751187600-1751212800@www.pregnancr.com
SUMMARY:Curso Grupal Lamaze
DESCRIPTION:
URL:https://www.pregnancr.com/evento/curso-grupal-lamaze-3/
END:VEVENT
BEGIN:VEVENT
DTSTART;TZID=America/Costa_Rica:20250525T090000
DTEND;TZID=America/Costa_Rica:20250525T160000
DTSTAMP:20260424T083738
CREATED:20250414T015228Z
LAST-MODIFIED:20250414T015228Z
UID:12255-1748163600-1748188800@www.pregnancr.com
SUMMARY:Curso Grupal Lamaze
DESCRIPTION:
URL:https://www.pregnancr.com/evento/curso-grupal-lamaze-2/
END:VEVENT
BEGIN:VEVENT
DTSTART;TZID=America/Costa_Rica:20250405T090000
DTEND;TZID=America/Costa_Rica:20250405T160000
DTSTAMP:20260424T083738
CREATED:20250414T015120Z
LAST-MODIFIED:20250414T015120Z
UID:12253-1743843600-1743868800@www.pregnancr.com
SUMMARY:Curso Grupal Lamaze
DESCRIPTION:
URL:https://www.pregnancr.com/evento/curso-grupal-lamaze/
END:VEVENT
BEGIN:VEVENT
DTSTART;TZID=America/Costa_Rica:20240929T090000
DTEND;TZID=America/Costa_Rica:20240929T113000
DTSTAMP:20260424T083738
CREATED:20240909T004520Z
LAST-MODIFIED:20240909T004520Z
UID:12247-1727600400-1727609400@www.pregnancr.com
SUMMARY:Curso Lamaze Grupal\, Clase 2
DESCRIPTION:
URL:https://www.pregnancr.com/evento/curso-lamaze-grupal-clase-2-16/
END:VEVENT
BEGIN:VEVENT
DTSTART;TZID=America/Costa_Rica:20240928T090000
DTEND;TZID=America/Costa_Rica:20240928T113000
DTSTAMP:20260424T083738
CREATED:20240909T004422Z
LAST-MODIFIED:20240909T004422Z
UID:12245-1727514000-1727523000@www.pregnancr.com
SUMMARY:Curso Lamaze Grupal\, Clase 1
DESCRIPTION:
URL:https://www.pregnancr.com/evento/curso-lamaze-grupal-clase-1-16/
END:VEVENT
BEGIN:VEVENT
DTSTART;TZID=America/Costa_Rica:20230604T180000
DTEND;TZID=America/Costa_Rica:20230604T210000
DTSTAMP:20260424T083738
CREATED:20230515T004847Z
LAST-MODIFIED:20230515T004847Z
UID:11275-1685901600-1685912400@www.pregnancr.com
SUMMARY:Curso Lamaze Grupal\, Clase 3
DESCRIPTION:
URL:https://www.pregnancr.com/evento/curso-lamaze-grupal-clase-3-15/
END:VEVENT
BEGIN:VEVENT
DTSTART;TZID=America/Costa_Rica:20230603T180000
DTEND;TZID=America/Costa_Rica:20230603T210000
DTSTAMP:20260424T083738
CREATED:20230515T004805Z
LAST-MODIFIED:20230515T004805Z
UID:11273-1685815200-1685826000@www.pregnancr.com
SUMMARY:Curso Lamaze Grupal\, Clase 2
DESCRIPTION:
URL:https://www.pregnancr.com/evento/curso-lamaze-grupal-clase-2-15/
END:VEVENT
BEGIN:VEVENT
DTSTART;TZID=America/Costa_Rica:20230602T180000
DTEND;TZID=America/Costa_Rica:20230602T210000
DTSTAMP:20260424T083738
CREATED:20230515T004727Z
LAST-MODIFIED:20230515T004727Z
UID:11271-1685728800-1685739600@www.pregnancr.com
SUMMARY:Curso Lamaze Grupal\, Clase 1
DESCRIPTION:
URL:https://www.pregnancr.com/evento/curso-lamaze-grupal-clase-1-15/
END:VEVENT
BEGIN:VEVENT
DTSTART;TZID=America/Costa_Rica:20230423T180000
DTEND;TZID=America/Costa_Rica:20230423T210000
DTSTAMP:20260424T083738
CREATED:20230405T040955Z
LAST-MODIFIED:20230405T040955Z
UID:11268-1682272800-1682283600@www.pregnancr.com
SUMMARY:Curso Lamaze Grupal\, Clase 3
DESCRIPTION:
URL:https://www.pregnancr.com/evento/curso-lamaze-grupal-clase-3-14/
END:VEVENT
BEGIN:VEVENT
DTSTART;TZID=America/Costa_Rica:20230422T180000
DTEND;TZID=America/Costa_Rica:20230422T210000
DTSTAMP:20260424T083738
CREATED:20230405T040916Z
LAST-MODIFIED:20230405T040916Z
UID:11266-1682186400-1682197200@www.pregnancr.com
SUMMARY:Curso Lamaze Grupal\, Clase 2
DESCRIPTION:
URL:https://www.pregnancr.com/evento/curso-lamaze-grupal-clase-2-14/
END:VEVENT
BEGIN:VEVENT
DTSTART;TZID=America/Costa_Rica:20230421T180000
DTEND;TZID=America/Costa_Rica:20230421T210000
DTSTAMP:20260424T083738
CREATED:20230405T040813Z
LAST-MODIFIED:20230405T040813Z
UID:11264-1682100000-1682110800@www.pregnancr.com
SUMMARY:Curso Lamaze Grupal\, Clase 1
DESCRIPTION:
URL:https://www.pregnancr.com/evento/curso-lamaze-grupal-clase-1-14/
END:VEVENT
BEGIN:VEVENT
DTSTART;TZID=America/Costa_Rica:20230326T180000
DTEND;TZID=America/Costa_Rica:20230326T210000
DTSTAMP:20260424T083738
CREATED:20230310T032016Z
LAST-MODIFIED:20230310T032016Z
UID:11262-1679853600-1679864400@www.pregnancr.com
SUMMARY:Curso Lamaze Grupal\, Clase 3
DESCRIPTION:
URL:https://www.pregnancr.com/evento/curso-lamaze-grupal-clase-3-13/
END:VEVENT
BEGIN:VEVENT
DTSTART;TZID=America/Costa_Rica:20230325T180000
DTEND;TZID=America/Costa_Rica:20230325T210000
DTSTAMP:20260424T083738
CREATED:20230310T031929Z
LAST-MODIFIED:20230310T031929Z
UID:11260-1679767200-1679778000@www.pregnancr.com
SUMMARY:Curso Lamaze Grupal\, Clase 2
DESCRIPTION:
URL:https://www.pregnancr.com/evento/curso-lamaze-grupal-clase-2-13/
END:VEVENT
BEGIN:VEVENT
DTSTART;TZID=America/Costa_Rica:20230324T180000
DTEND;TZID=America/Costa_Rica:20230324T210000
DTSTAMP:20260424T083738
CREATED:20230310T031854Z
LAST-MODIFIED:20230310T031854Z
UID:11258-1679680800-1679691600@www.pregnancr.com
SUMMARY:Curso Lamaze Grupal\, Clase 1
DESCRIPTION:
URL:https://www.pregnancr.com/evento/curso-lamaze-grupal-clase-1-13/
END:VEVENT
BEGIN:VEVENT
DTSTART;TZID=America/Costa_Rica:20221127T180000
DTEND;TZID=America/Costa_Rica:20221127T210000
DTSTAMP:20260424T083738
CREATED:20221030T182307Z
LAST-MODIFIED:20221030T182637Z
UID:11149-1669572000-1669582800@www.pregnancr.com
SUMMARY:Curso Lamaze Grupal\, Clase 3
DESCRIPTION:Tercer sesión del curso Lamaze (3 de 3)
URL:https://www.pregnancr.com/evento/curso-lamaze-grupal-clase-3-12/
END:VEVENT
BEGIN:VEVENT
DTSTART;TZID=America/Costa_Rica:20221126T180000
DTEND;TZID=America/Costa_Rica:20221126T210000
DTSTAMP:20260424T083738
CREATED:20221030T182224Z
LAST-MODIFIED:20221030T182609Z
UID:11147-1669485600-1669496400@www.pregnancr.com
SUMMARY:Curso Lamaze Grupal\, Clase 2
DESCRIPTION:Segunda sesión del curso Lamaze (2 de 3)
URL:https://www.pregnancr.com/evento/curso-lamaze-grupal-clase-2-12/
END:VEVENT
BEGIN:VEVENT
DTSTART;TZID=America/Costa_Rica:20221125T180000
DTEND;TZID=America/Costa_Rica:20221125T210000
DTSTAMP:20260424T083738
CREATED:20221030T182144Z
LAST-MODIFIED:20221030T182529Z
UID:11145-1669399200-1669410000@www.pregnancr.com
SUMMARY:Curso Lamaze Grupal\, Clase 1
DESCRIPTION:Primera sesión del curso Lamaze (1 de 3)
URL:https://www.pregnancr.com/evento/curso-lamaze-grupal-clase-1-12/
END:VEVENT
BEGIN:VEVENT
DTSTART;TZID=America/Costa_Rica:20220925T180000
DTEND;TZID=America/Costa_Rica:20220925T210000
DTSTAMP:20260424T083738
CREATED:20220722T021231Z
LAST-MODIFIED:20220722T021231Z
UID:11079-1664128800-1664139600@www.pregnancr.com
SUMMARY:Curso Lamaze Grupal\, Clase 3
DESCRIPTION:
URL:https://www.pregnancr.com/evento/curso-lamaze-grupal-clase-3-11/
END:VEVENT
BEGIN:VEVENT
DTSTART;TZID=America/Costa_Rica:20220924T180000
DTEND;TZID=America/Costa_Rica:20220924T210000
DTSTAMP:20260424T083738
CREATED:20220722T021155Z
LAST-MODIFIED:20220722T021155Z
UID:11077-1664042400-1664053200@www.pregnancr.com
SUMMARY:Curso Lamaze Grupal\, Clase 2
DESCRIPTION:
URL:https://www.pregnancr.com/evento/curso-lamaze-grupal-clase-2-11/
END:VEVENT
BEGIN:VEVENT
DTSTART;TZID=America/Costa_Rica:20220923T180000
DTEND;TZID=America/Costa_Rica:20220923T210000
DTSTAMP:20260424T083738
CREATED:20220722T021120Z
LAST-MODIFIED:20220722T021120Z
UID:11075-1663956000-1663966800@www.pregnancr.com
SUMMARY:Curso Lamaze Grupal\, Clase 1
DESCRIPTION:
URL:https://www.pregnancr.com/evento/curso-lamaze-grupal-clase-1-11/
END:VEVENT
BEGIN:VEVENT
DTSTART;TZID=America/Costa_Rica:20220626T180000
DTEND;TZID=America/Costa_Rica:20220626T210000
DTSTAMP:20260424T083738
CREATED:20220603T233735Z
LAST-MODIFIED:20220603T233735Z
UID:11061-1656266400-1656277200@www.pregnancr.com
SUMMARY:Curso Lamaze Grupal\, Clase 3
DESCRIPTION:
URL:https://www.pregnancr.com/evento/curso-lamaze-grupal-clase-3-10/
END:VEVENT
BEGIN:VEVENT
DTSTART;TZID=America/Costa_Rica:20220625T180000
DTEND;TZID=America/Costa_Rica:20220625T210000
DTSTAMP:20260424T083738
CREATED:20220603T233701Z
LAST-MODIFIED:20220603T233701Z
UID:11059-1656180000-1656190800@www.pregnancr.com
SUMMARY:Curso Lamaze Grupal\, Clase 2
DESCRIPTION:
URL:https://www.pregnancr.com/evento/curso-lamaze-grupal-clase-2-10/
END:VEVENT
BEGIN:VEVENT
DTSTART;TZID=America/Costa_Rica:20220624T180000
DTEND;TZID=America/Costa_Rica:20220624T210000
DTSTAMP:20260424T083738
CREATED:20220603T233626Z
LAST-MODIFIED:20220603T233626Z
UID:11057-1656093600-1656104400@www.pregnancr.com
SUMMARY:Curso Lamaze Grupal\, Clase 1
DESCRIPTION:
URL:https://www.pregnancr.com/evento/curso-lamaze-grupal-clase-1-10/
END:VEVENT
END:VCALENDAR