BEGIN:VCALENDAR
VERSION:2.0
PRODID:-//PregNan - ECPv6.15.20//NONSGML v1.0//EN
CALSCALE:GREGORIAN
METHOD:PUBLISH
X-WR-CALNAME:PregNan
X-ORIGINAL-URL:https://www.pregnancr.com
X-WR-CALDESC:Eventos para PregNan
REFRESH-INTERVAL;VALUE=DURATION:PT1H
X-Robots-Tag:noindex
X-PUBLISHED-TTL:PT1H
BEGIN:VTIMEZONE
TZID:America/Costa_Rica
BEGIN:STANDARD
TZOFFSETFROM:-0600
TZOFFSETTO:-0600
TZNAME:CST
DTSTART:20190101T000000
END:STANDARD
END:VTIMEZONE
BEGIN:VEVENT
DTSTART;TZID=America/Costa_Rica:20211127T180000
DTEND;TZID=America/Costa_Rica:20211127T210000
DTSTAMP:20260424T132617
CREATED:20211021T032934Z
LAST-MODIFIED:20211021T032934Z
UID:10611-1638036000-1638046800@www.pregnancr.com
SUMMARY:Curso Lamaze Grupal\, Clase 2
DESCRIPTION:
URL:https://www.pregnancr.com/evento/curso-lamaze-grupal-clase-2-6/
END:VEVENT
BEGIN:VEVENT
DTSTART;TZID=America/Costa_Rica:20211126T180000
DTEND;TZID=America/Costa_Rica:20211126T210000
DTSTAMP:20260424T132617
CREATED:20211021T032843Z
LAST-MODIFIED:20211021T032843Z
UID:10609-1637949600-1637960400@www.pregnancr.com
SUMMARY:Curso Lamaze Grupal\, Clase 1
DESCRIPTION:
URL:https://www.pregnancr.com/evento/curso-lamaze-grupal-clase-1-6/
END:VEVENT
BEGIN:VEVENT
DTSTART;TZID=America/Costa_Rica:20211024T180000
DTEND;TZID=America/Costa_Rica:20211024T210000
DTSTAMP:20260424T132617
CREATED:20211021T032724Z
LAST-MODIFIED:20211021T032724Z
UID:10607-1635098400-1635109200@www.pregnancr.com
SUMMARY:Curso Lamaze Grupal\, Clase 3
DESCRIPTION:
URL:https://www.pregnancr.com/evento/curso-lamaze-grupal-clase-3-5/
END:VEVENT
BEGIN:VEVENT
DTSTART;TZID=America/Costa_Rica:20211023T180000
DTEND;TZID=America/Costa_Rica:20211023T210000
DTSTAMP:20260424T132617
CREATED:20211021T031429Z
LAST-MODIFIED:20211021T031429Z
UID:10605-1635012000-1635022800@www.pregnancr.com
SUMMARY:Curso Lamaze Grupal\, Clase 2
DESCRIPTION:
URL:https://www.pregnancr.com/evento/curso-lamaze-grupal-clase-2-5/
END:VEVENT
BEGIN:VEVENT
DTSTART;TZID=America/Costa_Rica:20211022T180000
DTEND;TZID=America/Costa_Rica:20211022T210000
DTSTAMP:20260424T132617
CREATED:20211021T031332Z
LAST-MODIFIED:20211021T031332Z
UID:10603-1634925600-1634936400@www.pregnancr.com
SUMMARY:Curso Lamaze Grupal\, Clase 1
DESCRIPTION:
URL:https://www.pregnancr.com/evento/curso-lamaze-grupal-clase-1-5/
END:VEVENT
BEGIN:VEVENT
DTSTART;TZID=America/Costa_Rica:20210829T180000
DTEND;TZID=America/Costa_Rica:20210829T210000
DTSTAMP:20260424T132617
CREATED:20210816T142327Z
LAST-MODIFIED:20210816T142327Z
UID:10340-1630260000-1630270800@www.pregnancr.com
SUMMARY:Curso Lamaze Grupal\, Clase 3
DESCRIPTION:
URL:https://www.pregnancr.com/evento/curso-lamaze-grupal-clase-3-4/
END:VEVENT
BEGIN:VEVENT
DTSTART;TZID=America/Costa_Rica:20210828T180000
DTEND;TZID=America/Costa_Rica:20210828T210000
DTSTAMP:20260424T132617
CREATED:20210816T142236Z
LAST-MODIFIED:20210816T142236Z
UID:10338-1630173600-1630184400@www.pregnancr.com
SUMMARY:Curso Lamaze Grupal\, Clase 2
DESCRIPTION:
URL:https://www.pregnancr.com/evento/curso-lamaze-grupal-clase-2-4/
END:VEVENT
BEGIN:VEVENT
DTSTART;TZID=America/Costa_Rica:20210827T180000
DTEND;TZID=America/Costa_Rica:20210827T210000
DTSTAMP:20260424T132617
CREATED:20210816T142159Z
LAST-MODIFIED:20210816T142159Z
UID:10336-1630087200-1630098000@www.pregnancr.com
SUMMARY:Curso Lamaze Grupal\, Clase 1
DESCRIPTION:
URL:https://www.pregnancr.com/evento/curso-lamaze-grupal-clase-1-4/
END:VEVENT
BEGIN:VEVENT
DTSTART;TZID=America/Costa_Rica:20210627T180000
DTEND;TZID=America/Costa_Rica:20210627T210000
DTSTAMP:20260424T132617
CREATED:20210611T011626Z
LAST-MODIFIED:20210611T011626Z
UID:10255-1624816800-1624827600@www.pregnancr.com
SUMMARY:Curso Lamaze Grupal\, Día 3
DESCRIPTION:
URL:https://www.pregnancr.com/evento/curso-lamaze-grupal-dia-3-3/
END:VEVENT
BEGIN:VEVENT
DTSTART;TZID=America/Costa_Rica:20210626T180000
DTEND;TZID=America/Costa_Rica:20210626T210000
DTSTAMP:20260424T132617
CREATED:20210611T011547Z
LAST-MODIFIED:20210611T011547Z
UID:10253-1624730400-1624741200@www.pregnancr.com
SUMMARY:Curso Lamaze Grupal\, Día 2
DESCRIPTION:
URL:https://www.pregnancr.com/evento/curso-lamaze-grupal-dia-2-3/
END:VEVENT
BEGIN:VEVENT
DTSTART;TZID=America/Costa_Rica:20210625T180000
DTEND;TZID=America/Costa_Rica:20210625T210000
DTSTAMP:20260424T132617
CREATED:20210611T011510Z
LAST-MODIFIED:20210611T011510Z
UID:10251-1624644000-1624654800@www.pregnancr.com
SUMMARY:Curso Lamaze Grupal\, Día 1
DESCRIPTION:
URL:https://www.pregnancr.com/evento/curso-lamaze-grupal-dia-1-3/
END:VEVENT
BEGIN:VEVENT
DTSTART;TZID=America/Costa_Rica:20210624T180000
DTEND;TZID=America/Costa_Rica:20210624T200000
DTSTAMP:20260424T132617
CREATED:20210611T011418Z
LAST-MODIFIED:20210611T011418Z
UID:10249-1624557600-1624564800@www.pregnancr.com
SUMMARY:Taller Embarazo Saludable\, sesión 2
DESCRIPTION:Guía inicial para aquellas mamás de menos de 20 semanas de embarazo
URL:https://www.pregnancr.com/evento/taller-embarazo-saludable-sesion-2-2/
END:VEVENT
BEGIN:VEVENT
DTSTART;TZID=America/Costa_Rica:20210622T180000
DTEND;TZID=America/Costa_Rica:20210622T200000
DTSTAMP:20260424T132617
CREATED:20210611T011330Z
LAST-MODIFIED:20210611T011330Z
UID:10247-1624384800-1624392000@www.pregnancr.com
SUMMARY:Taller Embarazo Saludable\, sesión 1
DESCRIPTION:Guía inicial para aquellas mamás de menos de 20 semanas de embarazo
URL:https://www.pregnancr.com/evento/taller-embarazo-saludable-sesion-1-2/
END:VEVENT
BEGIN:VEVENT
DTSTART;TZID=America/Costa_Rica:20210530T180000
DTEND;TZID=America/Costa_Rica:20210530T210000
DTSTAMP:20260424T132617
CREATED:20210611T011207Z
LAST-MODIFIED:20210611T011207Z
UID:10245-1622397600-1622408400@www.pregnancr.com
SUMMARY:Curso Lamaze Grupal\, Día 3
DESCRIPTION:Etapa posparto y crianza temprana
URL:https://www.pregnancr.com/evento/curso-lamaze-grupal-dia-3-2/
END:VEVENT
BEGIN:VEVENT
DTSTART;TZID=America/Costa_Rica:20210529T180000
DTEND;TZID=America/Costa_Rica:20210529T210000
DTSTAMP:20260424T132617
CREATED:20210611T011119Z
LAST-MODIFIED:20210611T011119Z
UID:10243-1622311200-1622322000@www.pregnancr.com
SUMMARY:Curso Lamaze Grupal\, Día 2
DESCRIPTION:Etapa del parto\, signos de labor\, parto vaginal\, parto por cesárea
URL:https://www.pregnancr.com/evento/curso-lamaze-grupal-dia-2-2/
END:VEVENT
BEGIN:VEVENT
DTSTART;TZID=America/Costa_Rica:20210528T180000
DTEND;TZID=America/Costa_Rica:20210528T210000
DTSTAMP:20260424T132617
CREATED:20210611T010929Z
LAST-MODIFIED:20210611T010929Z
UID:10241-1622224800-1622235600@www.pregnancr.com
SUMMARY:Curso Lamaze Grupal\, Día 1
DESCRIPTION:Abarcando etapa de embarazo y acondicionamiento físico
URL:https://www.pregnancr.com/evento/curso-lamaze-grupal-dia-1-2/
END:VEVENT
BEGIN:VEVENT
DTSTART;TZID=America/Costa_Rica:20210527T180000
DTEND;TZID=America/Costa_Rica:20210527T200000
DTSTAMP:20260424T132617
CREATED:20210611T010744Z
LAST-MODIFIED:20210611T010744Z
UID:10239-1622138400-1622145600@www.pregnancr.com
SUMMARY:Taller Embarazo Saludable\, Sesión 2
DESCRIPTION:Ideal para aquellas mamás de menos de 20 semanas de embarazo \nAspectos a ver Nutrición\, Estimulación Prenatal\, Fisioterapia y Técnicas confort Lamaze
URL:https://www.pregnancr.com/evento/taller-embarazo-saludable-sesion-2/
END:VEVENT
BEGIN:VEVENT
DTSTART;TZID=America/Costa_Rica:20210525T180000
DTEND;TZID=America/Costa_Rica:20210525T200000
DTSTAMP:20260424T132617
CREATED:20210611T010652Z
LAST-MODIFIED:20210611T010652Z
UID:10237-1621965600-1621972800@www.pregnancr.com
SUMMARY:Taller Embarazo Saludable\, Sesión 1
DESCRIPTION:Ideal para aquellas mamás de menos de 20 semanas de embarazo \nAspectos a ver Nutrición\, Estimulación Prenatal\, Fisioterapia y Técnicas confort Lamaze
URL:https://www.pregnancr.com/evento/taller-embarazo-saludable-sesion-1/
END:VEVENT
BEGIN:VEVENT
DTSTART;TZID=America/Costa_Rica:20210429T180000
DTEND;TZID=America/Costa_Rica:20210429T200000
DTSTAMP:20260424T132617
CREATED:20210331T190153Z
LAST-MODIFIED:20210331T190153Z
UID:10157-1619719200-1619726400@www.pregnancr.com
SUMMARY:Taller Primer Trimestre Embarazo
DESCRIPTION:Guía inicial para tu primer trimestre\, aclara tus dudas en infórmate en Nutrición\, Estimulación Prenatal\, Suelo Pélvico y Educación para el parto y técnicas de confort Lamaze
URL:https://www.pregnancr.com/evento/taller-primer-trimestre-embarazo-2/
END:VEVENT
BEGIN:VEVENT
DTSTART;TZID=America/Costa_Rica:20210427T180000
DTEND;TZID=America/Costa_Rica:20210427T200000
DTSTAMP:20260424T132617
CREATED:20210331T185907Z
LAST-MODIFIED:20210331T185907Z
UID:10155-1619546400-1619553600@www.pregnancr.com
SUMMARY:Taller Primer Trimestre Embarazo
DESCRIPTION:Guía inicial para tu primer trimestre\, aclara tus dudas en infórmate en Nutrición\, Estimulación Prenatal\, Suelo Pélvico y Educación para el parto y técnicas de confort Lamaze
URL:https://www.pregnancr.com/evento/taller-primer-trimestre-embarazo/
END:VEVENT
BEGIN:VEVENT
DTSTART;TZID=America/Costa_Rica:20210425T180000
DTEND;TZID=America/Costa_Rica:20210425T200000
DTSTAMP:20260424T132617
CREATED:20210331T181156Z
LAST-MODIFIED:20210331T181156Z
UID:10151-1619373600-1619380800@www.pregnancr.com
SUMMARY:Curso Lamaze Grupal\, Clase 3
DESCRIPTION:Abarcaremos la etapa posparto y crianza temprana\, con recuperación de Mamá\, cuidados bebé\, Lactancia y la gestión positiva de los cambios ante la llegada del nuevo bebé \nExpertas invitadas para charlas de suelo pélvico\, estimulación infantil y Lactancia \n 
URL:https://www.pregnancr.com/evento/curso-lamaze-grupal-clase-3-3/
END:VEVENT
BEGIN:VEVENT
DTSTART;TZID=America/Costa_Rica:20210424T180000
DTEND;TZID=America/Costa_Rica:20210424T210000
DTSTAMP:20260424T132617
CREATED:20210331T180822Z
LAST-MODIFIED:20210331T180822Z
UID:10149-1619287200-1619298000@www.pregnancr.com
SUMMARY:Curso Lamaze Grupal\, Clase 2
DESCRIPTION:Abarcaremos la etapa del parto\, con las mejores prácticas para un parto seguro y saludable de Lamaze. Signos de labor para saber cuándo es momento de ir al hospital. Técnicas de confort y manejo de tensión
URL:https://www.pregnancr.com/evento/curso-lamaze-grupal-clase-2-3/
END:VEVENT
BEGIN:VEVENT
DTSTART;TZID=America/Costa_Rica:20210423T180000
DTEND;TZID=America/Costa_Rica:20210423T210000
DTSTAMP:20260424T132617
CREATED:20210331T175800Z
LAST-MODIFIED:20210331T180433Z
UID:10147-1619200800-1619211600@www.pregnancr.com
SUMMARY:Curso Lamaze Grupal\, Clase 1
DESCRIPTION:Abarcaremos la etapa de Embarazo\, con técnicas de confort para minimizar molestias comunes e impulsar más espacio para bebé
URL:https://www.pregnancr.com/evento/curso-lamaze-grupal-clase-1-3/
END:VEVENT
BEGIN:VEVENT
DTSTART;TZID=America/Costa_Rica:20201219T180000
DTEND;TZID=America/Costa_Rica:20201219T210000
DTSTAMP:20260424T132617
CREATED:20201126T213759Z
LAST-MODIFIED:20201126T213759Z
UID:8995-1608400800-1608411600@www.pregnancr.com
SUMMARY:Curso Lamaze Grupal\, Clase 3
DESCRIPTION:Preparación abarcando desde embarazo hasta crianza temprana
URL:https://www.pregnancr.com/evento/curso-lamaze-grupal-clase-3-2/
END:VEVENT
BEGIN:VEVENT
DTSTART;TZID=America/Costa_Rica:20201218T180000
DTEND;TZID=America/Costa_Rica:20201218T210000
DTSTAMP:20260424T132617
CREATED:20201126T213714Z
LAST-MODIFIED:20201126T213714Z
UID:8993-1608314400-1608325200@www.pregnancr.com
SUMMARY:Curso Lamaze Grupal\, Clase 2
DESCRIPTION:Preparación abarcando desde embarazo hasta crianza temprana
URL:https://www.pregnancr.com/evento/curso-lamaze-grupal-clase-2-2/
END:VEVENT
BEGIN:VEVENT
DTSTART;TZID=America/Costa_Rica:20201217T180000
DTEND;TZID=America/Costa_Rica:20201217T210000
DTSTAMP:20260424T132617
CREATED:20201126T213626Z
LAST-MODIFIED:20201126T213626Z
UID:8991-1608228000-1608238800@www.pregnancr.com
SUMMARY:Curso Lamaze Grupal\, Clase 1
DESCRIPTION:Preparación abarcando desde embarazo hasta crianza temprana
URL:https://www.pregnancr.com/evento/curso-lamaze-grupal-clase-1-2/
END:VEVENT
BEGIN:VEVENT
DTSTART;TZID=America/Costa_Rica:20201211T190000
DTEND;TZID=America/Costa_Rica:20201211T203000
DTSTAMP:20260424T132617
CREATED:20201126T213207Z
LAST-MODIFIED:20201126T213207Z
UID:8986-1607713200-1607718600@www.pregnancr.com
SUMMARY:Taller Lamaze\, Clase 2
DESCRIPTION:Preparación para mamás que están cerca de su fecha de parto con las prácticas de Lamaze para un parto seguro y saludable
URL:https://www.pregnancr.com/evento/taller-lamaze-clase-2/
END:VEVENT
BEGIN:VEVENT
DTSTART;TZID=America/Costa_Rica:20201210T190000
DTEND;TZID=America/Costa_Rica:20201210T203000
DTSTAMP:20260424T132617
CREATED:20201126T213058Z
LAST-MODIFIED:20201126T213327Z
UID:8983-1607626800-1607632200@www.pregnancr.com
SUMMARY:Taller Lamaze\, Clase 1
DESCRIPTION:Preparación para mamás que están cerca de su fecha de parto con las prácticas de Lamaze para un parto seguro y saludable
URL:https://www.pregnancr.com/evento/taller-lamaze-clase-1/
END:VEVENT
BEGIN:VEVENT
DTSTART;TZID=America/Costa_Rica:20201209T183000
DTEND;TZID=America/Costa_Rica:20201209T203000
DTSTAMP:20260424T132617
CREATED:20201126T213457Z
LAST-MODIFIED:20201126T213457Z
UID:8989-1607538600-1607545800@www.pregnancr.com
SUMMARY:Taller Embarazo Saludable
DESCRIPTION:Guía para mamás en primer trimestre de embarazo para impulsar un embarazo saludable\, informarse adecuadamente y reducir mitos y temores
URL:https://www.pregnancr.com/evento/taller-embarazo-saludable-3/
END:VEVENT
BEGIN:VEVENT
DTSTART;TZID=America/Costa_Rica:20201115T180000
DTEND;TZID=America/Costa_Rica:20201115T210000
DTSTAMP:20260424T132617
CREATED:20201030T044344Z
LAST-MODIFIED:20201030T044344Z
UID:8974-1605463200-1605474000@www.pregnancr.com
SUMMARY:CURSO LAMAZE GRUPAL- CLASE 3
DESCRIPTION:
URL:https://www.pregnancr.com/evento/curso-lamaze-grupal-clase-3/
END:VEVENT
END:VCALENDAR