BEGIN:VCALENDAR
VERSION:2.0
PRODID:-//PregNan - ECPv6.15.20//NONSGML v1.0//EN
CALSCALE:GREGORIAN
METHOD:PUBLISH
X-ORIGINAL-URL:https://www.pregnancr.com
X-WR-CALDESC:Eventos para PregNan
REFRESH-INTERVAL;VALUE=DURATION:PT1H
X-Robots-Tag:noindex
X-PUBLISHED-TTL:PT1H
BEGIN:VTIMEZONE
TZID:America/Costa_Rica
BEGIN:STANDARD
TZOFFSETFROM:-0600
TZOFFSETTO:-0600
TZNAME:CST
DTSTART:20180101T000000
END:STANDARD
END:VTIMEZONE
BEGIN:VTIMEZONE
TZID:UTC
BEGIN:STANDARD
TZOFFSETFROM:+0000
TZOFFSETTO:+0000
TZNAME:UTC
DTSTART:20180101T000000
END:STANDARD
END:VTIMEZONE
BEGIN:VEVENT
DTSTART;TZID=America/Costa_Rica:20200906T180000
DTEND;TZID=America/Costa_Rica:20200906T210000
DTSTAMP:20260424T182047
CREATED:20200720T160634Z
LAST-MODIFIED:20200720T160634Z
UID:8895-1599415200-1599426000@www.pregnancr.com
SUMMARY:CURSO VIRTUAL GRUPAL – DÍA 3
DESCRIPTION:
URL:https://www.pregnancr.com/evento/curso-virtual-grupal-dia-3-5/
END:VEVENT
BEGIN:VEVENT
DTSTART;TZID=America/Costa_Rica:20200905T180000
DTEND;TZID=America/Costa_Rica:20200905T210000
DTSTAMP:20260424T182047
CREATED:20200720T160553Z
LAST-MODIFIED:20200720T160553Z
UID:8893-1599328800-1599339600@www.pregnancr.com
SUMMARY:CURSO VIRTUAL GRUPAL – DÍA 2
DESCRIPTION:
URL:https://www.pregnancr.com/evento/curso-virtual-grupal-dia-2-5/
END:VEVENT
BEGIN:VEVENT
DTSTART;TZID=America/Costa_Rica:20200904T180000
DTEND;TZID=America/Costa_Rica:20200904T210000
DTSTAMP:20260424T182047
CREATED:20200720T160452Z
LAST-MODIFIED:20200720T160452Z
UID:8891-1599242400-1599253200@www.pregnancr.com
SUMMARY:CURSO VIRTUAL GRUPAL – DÍA 1
DESCRIPTION:
URL:https://www.pregnancr.com/evento/curso-virtual-grupal-dia-1-5/
END:VEVENT
BEGIN:VEVENT
DTSTART;TZID=America/Costa_Rica:20200809T180000
DTEND;TZID=America/Costa_Rica:20200809T210000
DTSTAMP:20260424T182047
CREATED:20200706T031741Z
LAST-MODIFIED:20200706T031741Z
UID:8882-1596996000-1597006800@www.pregnancr.com
SUMMARY:CURSO VIRTUAL GRUPAL - DÍA 3
DESCRIPTION:
URL:https://www.pregnancr.com/evento/curso-virtual-grupal-dia-3-4/
END:VEVENT
BEGIN:VEVENT
DTSTART;TZID=America/Costa_Rica:20200808T180000
DTEND;TZID=America/Costa_Rica:20200808T210000
DTSTAMP:20260424T182047
CREATED:20200706T031703Z
LAST-MODIFIED:20200706T031703Z
UID:8880-1596909600-1596920400@www.pregnancr.com
SUMMARY:CURSO VIRTUAL GRUPAL - DÍA 2
DESCRIPTION:
URL:https://www.pregnancr.com/evento/curso-virtual-grupal-dia-2-4/
END:VEVENT
BEGIN:VEVENT
DTSTART;TZID=America/Costa_Rica:20200807T180000
DTEND;TZID=America/Costa_Rica:20200807T210000
DTSTAMP:20260424T182047
CREATED:20200706T031624Z
LAST-MODIFIED:20200706T031624Z
UID:8878-1596823200-1596834000@www.pregnancr.com
SUMMARY:CURSO VIRTUAL GRUPAL - DÍA 1
DESCRIPTION:
URL:https://www.pregnancr.com/evento/curso-virtual-grupal-dia-1-4/
END:VEVENT
BEGIN:VEVENT
DTSTART;TZID=America/Costa_Rica:20200729T190000
DTEND;TZID=America/Costa_Rica:20200729T210000
DTSTAMP:20260424T182047
CREATED:20200707T212735Z
LAST-MODIFIED:20200707T212735Z
UID:8886-1596049200-1596056400@www.pregnancr.com
SUMMARY:Taller Embarazo Saludable\, Día 2
DESCRIPTION:
URL:https://www.pregnancr.com/evento/taller-embarazo-saludable-dia-2/
END:VEVENT
BEGIN:VEVENT
DTSTART;TZID=America/Costa_Rica:20200727T190000
DTEND;TZID=America/Costa_Rica:20200727T210000
DTSTAMP:20260424T182047
CREATED:20200707T212654Z
LAST-MODIFIED:20200707T212654Z
UID:8884-1595876400-1595883600@www.pregnancr.com
SUMMARY:Taller Embarazo Saludable\, Día 1
DESCRIPTION:
URL:https://www.pregnancr.com/evento/taller-embarazo-saludable-dia-1/
END:VEVENT
BEGIN:VEVENT
DTSTART;TZID=America/Costa_Rica:20200723T193000
DTEND;TZID=America/Costa_Rica:20200723T203000
DTSTAMP:20260424T182047
CREATED:20200720T160915Z
LAST-MODIFIED:20200720T160915Z
UID:8897-1595532600-1595536200@www.pregnancr.com
SUMMARY:Charla Técnicas de Respiración LAMAZE y Ejercicios Abdominales para Embarazo-Clínica Gestar
DESCRIPTION:
URL:https://www.pregnancr.com/evento/charla-tecnicas-de-respiracion-lamaze-y-ejercicios-abdominales-para-embarazo-clinica-gestar/
END:VEVENT
BEGIN:VEVENT
DTSTART;TZID=America/Costa_Rica:20200712T180000
DTEND;TZID=America/Costa_Rica:20200712T210000
DTSTAMP:20260424T182047
CREATED:20200706T031322Z
LAST-MODIFIED:20200706T031322Z
UID:8876-1594576800-1594587600@www.pregnancr.com
SUMMARY:CURSO VIRTUAL GRUPAL - DÍA 3
DESCRIPTION:
URL:https://www.pregnancr.com/evento/curso-virtual-grupal-dia-3-3/
END:VEVENT
BEGIN:VEVENT
DTSTART;TZID=America/Costa_Rica:20200711T180000
DTEND;TZID=America/Costa_Rica:20200711T210000
DTSTAMP:20260424T182047
CREATED:20200706T031241Z
LAST-MODIFIED:20200706T031241Z
UID:8874-1594490400-1594501200@www.pregnancr.com
SUMMARY:CURSO VIRTUAL GRUPAL - DÍA 2
DESCRIPTION:
URL:https://www.pregnancr.com/evento/curso-virtual-grupal-dia-2-3/
END:VEVENT
BEGIN:VEVENT
DTSTART;TZID=America/Costa_Rica:20200710T180000
DTEND;TZID=America/Costa_Rica:20200710T210000
DTSTAMP:20260424T182047
CREATED:20200706T031154Z
LAST-MODIFIED:20200706T031154Z
UID:8872-1594404000-1594414800@www.pregnancr.com
SUMMARY:CURSO VIRTUAL GRUPAL - DÍA 1
DESCRIPTION:
URL:https://www.pregnancr.com/evento/curso-virtual-grupal-dia-1-3/
END:VEVENT
BEGIN:VEVENT
DTSTART;TZID=America/Costa_Rica:20200614T090000
DTEND;TZID=America/Costa_Rica:20200614T120000
DTSTAMP:20260424T182047
CREATED:20200706T031023Z
LAST-MODIFIED:20200706T031023Z
UID:8870-1592125200-1592136000@www.pregnancr.com
SUMMARY:CURSO VIRTUAL GRUPAL - DÍA 3
DESCRIPTION:
URL:https://www.pregnancr.com/evento/curso-virtual-grupal-dia-3-2/
END:VEVENT
BEGIN:VEVENT
DTSTART;TZID=America/Costa_Rica:20200613T090000
DTEND;TZID=America/Costa_Rica:20200613T120000
DTSTAMP:20260424T182047
CREATED:20200706T030940Z
LAST-MODIFIED:20200706T030940Z
UID:8868-1592038800-1592049600@www.pregnancr.com
SUMMARY:CURSO VIRTUAL GRUPAL - DÍA 2
DESCRIPTION:
URL:https://www.pregnancr.com/evento/curso-virtual-grupal-dia-2-2/
END:VEVENT
BEGIN:VEVENT
DTSTART;TZID=America/Costa_Rica:20200612T180000
DTEND;TZID=America/Costa_Rica:20200612T210000
DTSTAMP:20260424T182047
CREATED:20200706T030848Z
LAST-MODIFIED:20200706T030848Z
UID:8866-1591984800-1591995600@www.pregnancr.com
SUMMARY:CURSO VIRTUAL GRUPAL - DÍA 1
DESCRIPTION:
URL:https://www.pregnancr.com/evento/curso-virtual-grupal-dia-1-2/
END:VEVENT
BEGIN:VEVENT
DTSTART;TZID=America/Costa_Rica:20200522T180000
DTEND;TZID=America/Costa_Rica:20200522T210000
DTSTAMP:20260424T182047
CREATED:20200706T030755Z
LAST-MODIFIED:20200706T030755Z
UID:8864-1590170400-1590181200@www.pregnancr.com
SUMMARY:CURSO VIRTUAL GRUPAL - DÍA 3
DESCRIPTION:
URL:https://www.pregnancr.com/evento/curso-virtual-grupal-dia-3/
END:VEVENT
BEGIN:VEVENT
DTSTART;TZID=America/Costa_Rica:20200520T180000
DTEND;TZID=America/Costa_Rica:20200520T210000
DTSTAMP:20260424T182047
CREATED:20200706T030703Z
LAST-MODIFIED:20200706T030703Z
UID:8862-1589997600-1590008400@www.pregnancr.com
SUMMARY:CURSO VIRTUAL GRUPAL - DÍA 2
DESCRIPTION:
URL:https://www.pregnancr.com/evento/curso-virtual-grupal-dia-2/
END:VEVENT
BEGIN:VEVENT
DTSTART;TZID=America/Costa_Rica:20200518T180000
DTEND;TZID=America/Costa_Rica:20200518T210000
DTSTAMP:20260424T182047
CREATED:20200706T030235Z
LAST-MODIFIED:20200706T030235Z
UID:8859-1589824800-1589835600@www.pregnancr.com
SUMMARY:CURSO VIRTUAL GRUPAL - DÍA 1
DESCRIPTION:
URL:https://www.pregnancr.com/evento/curso-virtual-grupal-dia-1/
END:VEVENT
BEGIN:VEVENT
DTSTART;TZID=America/Costa_Rica:20200419T080000
DTEND;TZID=America/Costa_Rica:20200419T130000
DTSTAMP:20260424T182047
CREATED:20200324T202125Z
LAST-MODIFIED:20200324T202217Z
UID:8846-1587283200-1587301200@www.pregnancr.com
SUMMARY:Curso Grupal – Abril – Clase 2
DESCRIPTION:
URL:https://www.pregnancr.com/evento/curso-grupal-abril-clase-2/
LOCATION:Curridabat\, Costa Rica
CATEGORIES:Clases
END:VEVENT
BEGIN:VEVENT
DTSTART;TZID=America/Costa_Rica:20200418T080000
DTEND;TZID=America/Costa_Rica:20200418T130000
DTSTAMP:20260424T182047
CREATED:20200324T202004Z
LAST-MODIFIED:20200324T202004Z
UID:8844-1587196800-1587214800@www.pregnancr.com
SUMMARY:Curso Grupal – Abril - Clase 1
DESCRIPTION:
URL:https://www.pregnancr.com/evento/curso-grupal-abril-clase-1/
LOCATION:Curridabat\, Costa Rica
CATEGORIES:Clases
END:VEVENT
BEGIN:VEVENT
DTSTART;TZID=America/Costa_Rica:20191124T080000
DTEND;TZID=America/Costa_Rica:20191124T130000
DTSTAMP:20260424T182047
CREATED:20190930T215121Z
LAST-MODIFIED:20190930T215121Z
UID:8676-1574582400-1574600400@www.pregnancr.com
SUMMARY:Curso Grupal – Clase 2
DESCRIPTION:
URL:https://www.pregnancr.com/evento/curso-grupal-clase-2-3/
LOCATION:Curridabat\, Costa Rica
CATEGORIES:Clases
END:VEVENT
BEGIN:VEVENT
DTSTART;TZID=America/Costa_Rica:20191123T080000
DTEND;TZID=America/Costa_Rica:20191123T130000
DTSTAMP:20260424T182047
CREATED:20190924T180225Z
LAST-MODIFIED:20190930T215031Z
UID:8598-1574496000-1574514000@www.pregnancr.com
SUMMARY:Curso Grupal – Clase 1
DESCRIPTION:
URL:https://www.pregnancr.com/evento/clase-de-noviembre/
LOCATION:Curridabat\, Costa Rica
CATEGORIES:Clases
END:VEVENT
BEGIN:VEVENT
DTSTART;TZID=America/Costa_Rica:20191116T100000
DTEND;TZID=America/Costa_Rica:20191116T190000
DTSTAMP:20260424T182047
CREATED:20191031T002709Z
LAST-MODIFIED:20191031T002912Z
UID:8819-1573898400-1573930800@www.pregnancr.com
SUMMARY:Feria de Emprendedores - La Muestra Creativa
DESCRIPTION:
URL:https://www.pregnancr.com/evento/feria-de-emprendedores-la-muestra-creativa/
LOCATION:Combai\, Escazú
CATEGORIES:Feria
END:VEVENT
BEGIN:VEVENT
DTSTART;TZID=America/Costa_Rica:20191110T093000
DTEND;TZID=America/Costa_Rica:20191110T130000
DTSTAMP:20260424T182047
CREATED:20191031T003045Z
LAST-MODIFIED:20191031T004827Z
UID:8823-1573378200-1573390800@www.pregnancr.com
SUMMARY:Taller Embarazo Saludable
DESCRIPTION:
URL:https://www.pregnancr.com/evento/taller-embarazo-saludable/
LOCATION:Cronos Plaza\, Curridabat\, Costa Rica
CATEGORIES:Taller
END:VEVENT
BEGIN:VEVENT
DTSTART;TZID=America/Costa_Rica:20191101T110000
DTEND;TZID=America/Costa_Rica:20191103T180000
DTSTAMP:20260424T182047
CREATED:20191031T004513Z
LAST-MODIFIED:20191031T004513Z
UID:8825-1572606000-1572804000@www.pregnancr.com
SUMMARY:Expo Mamá y Bebé
DESCRIPTION:
URL:https://www.pregnancr.com/evento/expo-mama-y-bebe/
LOCATION:Plaza Tempo\, Escazú\, Costa Rica
CATEGORIES:Feria
END:VEVENT
BEGIN:VEVENT
DTSTART;TZID=America/Costa_Rica:20191027T080000
DTEND;TZID=America/Costa_Rica:20191027T130000
DTSTAMP:20260424T182047
CREATED:20190930T214603Z
LAST-MODIFIED:20190930T214634Z
UID:8670-1572163200-1572181200@www.pregnancr.com
SUMMARY:Curso Grupal - Día 2
DESCRIPTION:
URL:https://www.pregnancr.com/evento/curso-grupal-clase-2-2/
LOCATION:Curridabat\, Costa Rica
CATEGORIES:Clases
END:VEVENT
BEGIN:VEVENT
DTSTART;TZID=America/Costa_Rica:20191026T080000
DTEND;TZID=America/Costa_Rica:20191026T130000
DTSTAMP:20260424T182047
CREATED:20190924T174242Z
LAST-MODIFIED:20190930T214708Z
UID:8584-1572076800-1572094800@www.pregnancr.com
SUMMARY:Curso Grupal - Día 1
DESCRIPTION:
URL:https://www.pregnancr.com/evento/curso-grupal-clase-1-2/
LOCATION:Curridabat\, Costa Rica
CATEGORIES:Clases
END:VEVENT
BEGIN:VEVENT
DTSTART;TZID=America/Costa_Rica:20191006T080000
DTEND;TZID=America/Costa_Rica:20191006T130000
DTSTAMP:20260424T182047
CREATED:20190930T213802Z
LAST-MODIFIED:20190930T214713Z
UID:8667-1570348800-1570366800@www.pregnancr.com
SUMMARY:Curso Grupal - Día 2
DESCRIPTION:
URL:https://www.pregnancr.com/evento/curso-grupal-clase-2/
LOCATION:Curridabat\, Costa Rica
CATEGORIES:Clases
END:VEVENT
BEGIN:VEVENT
DTSTART;TZID=UTC:20191005T080000
DTEND;TZID=UTC:20191005T130000
DTSTAMP:20260424T182047
CREATED:20181201T225841Z
LAST-MODIFIED:20190930T214719Z
UID:7146-1570262400-1570280400@www.pregnancr.com
SUMMARY:Curso Grupal - Día 1
DESCRIPTION:Aliquam venenatis egestas justo. Fusce dignissim pellentesque pulvinar. Curabitur non urna id nisi tincidunt tempor. Sed tincidunt\, tortor in semper malesuada\, nibh dui pulvinar turpis\, vitae tempor eros quam nec nulla. Maecenas volutpat risus et vestibulum suscipit. Fusce molestie molestie pharetra. Morbi a elit eros. Duis vehicula sem felis\, in posuere leo eleifend eget. Maecenas est elit\, efficitur sed dui tincidunt\, maximus commodo libero. Phasellus feugiat faucibus fringilla.
URL:https://www.pregnancr.com/evento/curso-grupal-clase-1/
LOCATION:Curridabat\, Costa Rica
CATEGORIES:Clases
END:VEVENT
END:VCALENDAR